BEGIN:VCALENDAR
VERSION:2.0
PRODID:-//Squarespace Inc/Squarespace 6//v6//EN
BEGIN:VEVENT
UID:5a02c64c9140b7456e51d302@squarespace.com
DTSTAMP:20171108T090835Z
DTSTART:20171201T200000Z
DTEND:20171203T040000Z
SUMMARY:Movement Weekend
GEO:-36.614172;174.783772
LOCATION:Auckland\, 0930
END:VEVENT
END:VCALENDAR
