BEGIN:VCALENDAR
VERSION:2.0
PRODID:-//Squarespace Inc/Squarespace 6//v6//EN
BEGIN:VEVENT
UID:569c8bdd0e4c1148e6b8c0ff@squarespace.com
DTSTAMP:20160118T065414Z
DTSTART:20160127T223000Z
DTEND:20160127T230000Z
SUMMARY:Stretch Sessions
END:VEVENT
END:VCALENDAR
