BEGIN:VCALENDAR
VERSION:2.0
PRODID:-//Squarespace Inc/Squarespace 6//v6//EN
BEGIN:VEVENT
UID:569c8ca71a520349a510b9cd@squarespace.com
DTSTAMP:20160118T065750Z
DTSTART:20160129T203000Z
DTEND:20160129T210000Z
SUMMARY:Stretch Sessions
END:VEVENT
END:VCALENDAR
